BEGIN:VCALENDAR
VERSION:2.0
METHOD:PUBLISH
PRODID::-//Obvius//NONSGML ICal//DA
BEGIN:VEVENT
UID:1772579@chep.ku.dk
DESCRIPTION:Estimation procedures are incorporated into the R-package rags
 2ridges and applied to a meta analysis study of network structures in 11 l
 arge-scale diffuse large B-cell lymphoma gene expression datasets.\n\nhttp
 s://chep.ku.dk/events/fused-ridge-estimation/
SUMMARY:Fused Ridge Estimation of Multiple Inverse Class Covariance Matric
 es from High-Dimensional Data
LOCATION:CSS\, room 5.2.46\, Øster Farimagsgade 5\, 1353 København K
DTSTART:20150323T141500Z
DTSTAMP:20150323T141500Z
END:VEVENT
END:VCALENDAR
