BEGIN:VCALENDAR
VERSION:2.0
METHOD:PUBLISH
PRODID::-//Obvius//NONSGML ICal//DA
BEGIN:VEVENT
UID:2096178@chep.ku.dk
DESCRIPTION:We study the effect of the degree of exclusivity for the lowes
 t bidder on the average price of generic pharmaceuticals in the short and 
 long terms.\n\nhttps://chep.ku.dk/events/david-granlund/
SUMMARY:Squeezing the last drop out of your suppliers
LOCATION:CSS 26.2.21 (building 26\, 2nd floor seminar room)
ORGANIZER:CHEP/CORS Seminar
DTSTART:20160526T110000Z
DTSTAMP:20160526T110000Z
DTEND:20160526T120000Z
END:VEVENT
END:VCALENDAR
