BEGIN:VCALENDAR
VERSION:2.0
METHOD:PUBLISH
PRODID::-//Obvius//NONSGML ICal//DA
BEGIN:VEVENT
UID:2417282@chep.ku.dk
DESCRIPTION:This workshop will bring together a diverse\, international gr
 oup of re-searchers who share an interest in the area of public policies a
 nd health and health behaviours. We welcome submissions of papers in a bro
 ad range of topics within the general theme of the workshop.\n\nhttps://ch
 ep.ku.dk/events/callforpapers/
SUMMARY:Call for Papers: A Research Workshop on &#8216\;Public Policies\, 
 Health and Health Behaviours&#8217\; 
CATEGORIES:workshop
ORGANIZER:KORA
DTSTART:20170514T220000Z
DTSTAMP:20170514T220000Z
DTEND:20170515T220000Z
END:VEVENT
END:VCALENDAR
